BEGIN:VCALENDAR
VERSION:2.0
PRODID:-//NHBSR - ECPv6.15.4//NONSGML v1.0//EN
CALSCALE:GREGORIAN
METHOD:PUBLISH
X-ORIGINAL-URL:https://www.nhbsr.org
X-WR-CALDESC:Events for NHBSR
REFRESH-INTERVAL;VALUE=DURATION:PT1H
X-Robots-Tag:noindex
X-PUBLISHED-TTL:PT1H
BEGIN:VTIMEZONE
TZID:America/New_York
BEGIN:DAYLIGHT
TZOFFSETFROM:-0500
TZOFFSETTO:-0400
TZNAME:EDT
DTSTART:20250309T070000
END:DAYLIGHT
BEGIN:STANDARD
TZOFFSETFROM:-0400
TZOFFSETTO:-0500
TZNAME:EST
DTSTART:20251102T060000
END:STANDARD
END:VTIMEZONE
BEGIN:VEVENT
DTSTART;TZID=America/New_York:20250213T120000
DTEND;TZID=America/New_York:20250213T130000
DTSTAMP:20260422T181811
CREATED:20250129T165435Z
LAST-MODIFIED:20250206T184252Z
UID:7095-1739448000-1739451600@www.nhbsr.org
SUMMARY:Welcoming Workplaces Online Dialogue #1
DESCRIPTION:In thriving workplaces and communities\, everyone contributes. Understanding the circumstances and dynamics that create true diversity\, equity\, and inclusion is crucial to developing workplaces and communities that excel and thrive. In online meetings\, participants can join facilitated dialogue sessions with other organizational leaders to reflect and consider how to take action and invest resources for change in the most effective ways. \nDialogues facilitated by Jermaine Moore of The Mars Hill Group. \nOnline via Zoom\, 12-1 PM \n  \nThese online dialogues are in conjunction with our Welcoming Workplaces and Communities online learning course but can be attended independently. We invite you to enroll in the full program here. \n 
URL:https://www.nhbsr.org/event/welcoming-workplaces-and-communities-dialogue/
CATEGORIES:DEI
ATTACH;FMTTYPE=image/png:https://www.nhbsr.org/wp-content/uploads/2025/01/Welcoming-Dialogues-web-1600-x-900-px-3.png
ORGANIZER;CN="Zeina Eyceoz":MAILTO:zeina@nhbsr.org
END:VEVENT
END:VCALENDAR