BEGIN:VCALENDAR
VERSION:2.0
PRODID:-//NHBSR - ECPv6.15.4//NONSGML v1.0//EN
CALSCALE:GREGORIAN
METHOD:PUBLISH
X-WR-CALNAME:NHBSR
X-ORIGINAL-URL:https://www.nhbsr.org
X-WR-CALDESC:Events for NHBSR
REFRESH-INTERVAL;VALUE=DURATION:PT1H
X-Robots-Tag:noindex
X-PUBLISHED-TTL:PT1H
BEGIN:VTIMEZONE
TZID:America/New_York
BEGIN:DAYLIGHT
TZOFFSETFROM:-0500
TZOFFSETTO:-0400
TZNAME:EDT
DTSTART:20260308T070000
END:DAYLIGHT
BEGIN:STANDARD
TZOFFSETFROM:-0400
TZOFFSETTO:-0500
TZNAME:EST
DTSTART:20261101T060000
END:STANDARD
END:VTIMEZONE
BEGIN:VEVENT
DTSTART;TZID=America/New_York:20260312T150000
DTEND;TZID=America/New_York:20260312T170000
DTSTAMP:20260419T100248
CREATED:20260112T224446Z
LAST-MODIFIED:20260223T222731Z
UID:8184-1773327600-1773334800@www.nhbsr.org
SUMMARY:Go On Tour at Stonyfield Organic
DESCRIPTION:We are excited to reintroduce our Go On Tour series!\nJoin us at Stonyfield Organic\nBack by popular demand\, we’re bringing back a true NHBSR favorite: Go On Tours! Join us for an inside look at Stonyfield Organic\, where you can explore their operations\, enjoy light refreshments\, and network with peers. These tours offer a relaxed\, informal space to learn from one another\, build community\, and see sustainability in action. \nThursday\, March 12\, 2026\, 3-5 PM \nRegister Now!
URL:https://www.nhbsr.org/event/go-on-tour-at-stonyfield-organic/
CATEGORIES:Member Event,Networking Socials
ATTACH;FMTTYPE=image/png:https://www.nhbsr.org/wp-content/uploads/2026/01/Copy-of-Go-On-Tour-web-1600x900-1.png
END:VEVENT
END:VCALENDAR