BEGIN:VCALENDAR
VERSION:2.0
PRODID:-//NHBSR - ECPv6.15.4//NONSGML v1.0//EN
CALSCALE:GREGORIAN
METHOD:PUBLISH
X-ORIGINAL-URL:https://www.nhbsr.org
X-WR-CALDESC:Events for NHBSR
REFRESH-INTERVAL;VALUE=DURATION:PT1H
X-Robots-Tag:noindex
X-PUBLISHED-TTL:PT1H
BEGIN:VTIMEZONE
TZID:UTC
BEGIN:STANDARD
TZOFFSETFROM:+0000
TZOFFSETTO:+0000
TZNAME:UTC
DTSTART:20240101T000000
END:STANDARD
END:VTIMEZONE
BEGIN:VEVENT
DTSTART;TZID=UTC:20240208T120000
DTEND;TZID=UTC:20240208T130000
DTSTAMP:20260422T031004
CREATED:20230927T230155Z
LAST-MODIFIED:20240130T163600Z
UID:3690-1707393600-1707397200@www.nhbsr.org
SUMMARY:Navigating the Mental Health System Webinar
DESCRIPTION:What is the difference between the various mental health care providers? How can you seek help? Experience both a provider and patient perspective. Discover new and innovative solutions to bypass the limitations of service provider availability and offer your employees access to mental health services. \nSpeakers:  \nMathew Duncan\, MD\, a staff psychiatrist and Dartmouth Health assistant professor at the Geisel School of Medicine. \nDebra LeClair\, PsyD. Psychologist and Coach\, Full Spectrum Wellness
URL:https://www.nhbsr.org/event/navigating-the-mental-health-system-webinars/
LOCATION:Online via Zoom
CATEGORIES:Mental Wellness Webinars,Mental Wellness
ATTACH;FMTTYPE=image/png:https://www.nhbsr.org/wp-content/uploads/2023/09/Mental-Health-Syst-web-event-1600-x-900-px.png
ORGANIZER;CN="Zeina Eyceoz":MAILTO:zeina@nhbsr.org
END:VEVENT
END:VCALENDAR