BEGIN:VCALENDAR
VERSION:2.0
PRODID:-//NHBSR - ECPv6.15.4//NONSGML v1.0//EN
CALSCALE:GREGORIAN
METHOD:PUBLISH
X-ORIGINAL-URL:https://www.nhbsr.org
X-WR-CALDESC:Events for NHBSR
REFRESH-INTERVAL;VALUE=DURATION:PT1H
X-Robots-Tag:noindex
X-PUBLISHED-TTL:PT1H
BEGIN:VTIMEZONE
TZID:UTC
BEGIN:STANDARD
TZOFFSETFROM:+0000
TZOFFSETTO:+0000
TZNAME:UTC
DTSTART:20230101T000000
END:STANDARD
END:VTIMEZONE
BEGIN:VEVENT
DTSTART;TZID=UTC:20231206T120000
DTEND;TZID=UTC:20231206T130000
DTSTAMP:20260420T015507
CREATED:20230927T231652Z
LAST-MODIFIED:20231116T234926Z
UID:3696-1701864000-1701867600@www.nhbsr.org
SUMMARY:Tapping into the Hidden Workforce Webinar
DESCRIPTION:There’s a massive pool of untapped talent that small businesses can benefit from using second chance hiring. Here’s how to do it.  \nModerator:  \nChris Placy\, Executive Vice President\, Substance Free Workplaces \nSpeakers:  \n\nSandi Coyle\, Senior Account Manager\, Working Fields\nKaren Morton-Clark\, Recovery Advocate\, Recovery Friendly Workplaces\nJacob Howard\, NH Senior Operations Manager\, Outdoor Pride Snow Removal and Landscape Operations\nPanelists TBD from Drug Court
URL:https://www.nhbsr.org/event/tapping-into-the-hidden-workforce-webinar/
LOCATION:Online via Zoom
CATEGORIES:Pathways to Prosperity Webinars,Pathways to Prosperity
ATTACH;FMTTYPE=image/jpeg:https://www.nhbsr.org/wp-content/uploads/2023/08/sigmund-YUuSAJkS3U4-unsplash.jpg
ORGANIZER;CN="Zeina Eyceoz":MAILTO:zeina@nhbsr.org
END:VEVENT
END:VCALENDAR