BEGIN:VCALENDAR
VERSION:2.0
PRODID:-//NHBSR - ECPv6.15.4//NONSGML v1.0//EN
CALSCALE:GREGORIAN
METHOD:PUBLISH
X-WR-CALNAME:NHBSR
X-ORIGINAL-URL:https://www.nhbsr.org
X-WR-CALDESC:Events for NHBSR
REFRESH-INTERVAL;VALUE=DURATION:PT1H
X-Robots-Tag:noindex
X-PUBLISHED-TTL:PT1H
BEGIN:VTIMEZONE
TZID:UTC
BEGIN:STANDARD
TZOFFSETFROM:+0000
TZOFFSETTO:+0000
TZNAME:UTC
DTSTART:20240101T000000
END:STANDARD
END:VTIMEZONE
BEGIN:VEVENT
DTSTART;TZID=UTC:20240214T120000
DTEND;TZID=UTC:20240214T130000
DTSTAMP:20260419T202251
CREATED:20231020T214318Z
LAST-MODIFIED:20240124T135645Z
UID:3700-1707912000-1707915600@www.nhbsr.org
SUMMARY:Building Tomorrow's Workforce: Collaborative Strategies for Education and Career Pathways Design
DESCRIPTION:Join us in this insightful webinar as we explore innovative approaches to educate the workforce and design effective career pathways. Discover the power of collaboration between businesses and schools\, unlocking opportunities for professional growth and creating a roadmap for a skilled and future-ready workforce. \nSpeakers: \n\nMichael Turmelle\, Director of Education and Career Initiatives\, NH Charitable Foundation\nAnne Banks\, Apprenticeship Programs Manager\, Community College Systems of NH\nJoAnna Luiso\, Director of Career and Professional Development Center at SNHU\n\n 
URL:https://www.nhbsr.org/event/career-pathways-webinar/
LOCATION:Online via Zoom
CATEGORIES:Pathways to Prosperity Webinars,Pathways to Prosperity
ATTACH;FMTTYPE=image/png:https://www.nhbsr.org/wp-content/uploads/2023/10/Tomorrows-workforce-web-event-1600-x-900-px-1.png
ORGANIZER;CN="Zeina Eyceoz":MAILTO:zeina@nhbsr.org
END:VEVENT
END:VCALENDAR