BEGIN:VCALENDAR
VERSION:2.0
PRODID:-//NHBSR - ECPv6.15.4//NONSGML v1.0//EN
CALSCALE:GREGORIAN
METHOD:PUBLISH
X-ORIGINAL-URL:https://www.nhbsr.org
X-WR-CALDESC:Events for NHBSR
REFRESH-INTERVAL;VALUE=DURATION:PT1H
X-Robots-Tag:noindex
X-PUBLISHED-TTL:PT1H
BEGIN:VTIMEZONE
TZID:UTC
BEGIN:STANDARD
TZOFFSETFROM:+0000
TZOFFSETTO:+0000
TZNAME:UTC
DTSTART:20240101T000000
END:STANDARD
END:VTIMEZONE
BEGIN:VEVENT
DTSTART;TZID=UTC:20240319T120000
DTEND;TZID=UTC:20240319T130000
DTSTAMP:20260419T163630
CREATED:20231021T214327Z
LAST-MODIFIED:20240228T191630Z
UID:3703-1710849600-1710853200@www.nhbsr.org
SUMMARY:Fostering Workplace Culture in a Remote or Hybrid Environment Webinar
DESCRIPTION:Learn the top trends of maintaining organizational culture in a remote environment. How are you staying connected? An Interactive session covering the 5 areas of deepening connection. This workshop will feature breakout sessions to learn from other industries and organizations. \nSpeaker:  \n\nHeather Ramsey\, MA\, PCC\n\n 
URL:https://www.nhbsr.org/event/fostering-workplace-culture-in-a-remote-or-hybrid-environment-webinar/
LOCATION:Online via Zoom
CATEGORIES:Pathways to Prosperity Webinars,Pathways to Prosperity
ATTACH;FMTTYPE=image/png:https://www.nhbsr.org/wp-content/uploads/2023/10/workplace-culture-web-event-1600-x-900-px-1.png
ORGANIZER;CN="Zeina Eyceoz":MAILTO:zeina@nhbsr.org
END:VEVENT
END:VCALENDAR